BEGIN:VCALENDAR
VERSION:2.0
PRODID:-//hacksw/handcal//NONSGML v1.0//EN
BEGIN:VEVENT
DTSTART:20251128
DTEND:20251229
LOCATION:hombourg-haut
SUMMARY:LES FEERIES DE NOËL - 5ème Edition
DESCRIPTION:https://www.hombourg-haut.fr/Manifs/FEERIES-NOEL-5eme-Edition-00466.html
END:VEVENT
END:VCALENDAR